BEGIN:VCALENDAR
VERSION:2.0
PRODID:spatie/icalendar-generator
DESCRIPTION:Events from Hanover Public Library
X-WR-CALDESC:Events from Hanover Public Library
REFRESH-INTERVAL;VALUE=DURATION:PT1440M
X-PUBLISHED-TTL:PT1440M
BEGIN:VTIMEZONE
TZID:America/Toronto
BEGIN:DAYLIGHT
DTSTART:20220313T020000Z
TZOFFSETFROM:-0500
TZOFFSETTO:-0400
END:DAYLIGHT
BEGIN:STANDARD
DTSTART:20221106T020000Z
TZOFFSETFROM:-0400
TZOFFSETTO:-0500
END:STANDARD
BEGIN:DAYLIGHT
DTSTART:20230312T020000Z
TZOFFSETFROM:-0500
TZOFFSETTO:-0400
END:DAYLIGHT
END:VTIMEZONE
BEGIN:VTIMEZONE
TZID:UTC
BEGIN:STANDARD
DTSTART:20250726T121724Z
TZOFFSETFROM:+0000
TZOFFSETTO:+0000
END:STANDARD
END:VTIMEZONE
BEGIN:VEVENT
UID:114-18
DTSTAMP:20260422T121724Z
SUMMARY:Library Board Meeting
LOCATION:
ORGANIZER;CN=ataylor:MAILTO:ataylor@hanoverlibrary.ca
DTSTART;TZID=America/Toronto:20221124T180000
DTEND;TZID=America/Toronto:20221124T190000
X-ALT-DESC;FMTTYPE=TEXT/HTML:Library Board Meetings Regular meetings of the
  Library Board take place on the 4th Thursday of every month\, at 6:00 pm.
  Meetings are open to the public. Please let the CEO/Chief Librarian know 
 if you wish to attend a library board meeting. Agendas and reports are ava
 ilable on request at the library the week of&amp;hellip\;
CATEGORIES:Meeting,  General
URL;VALUE=URI:https://hanoverlibrary.ca/mc-events/library-board-meeting/
METHOD:PUBLISH
END:VEVENT
END:VCALENDAR