BEGIN:VCALENDAR
VERSION:2.0
PRODID:spatie/icalendar-generator
DESCRIPTION:Events from Hanover Public Library
X-WR-CALDESC:Events from Hanover Public Library
REFRESH-INTERVAL;VALUE=DURATION:PT1440M
X-PUBLISHED-TTL:PT1440M
BEGIN:VTIMEZONE
TZID:America/Toronto
BEGIN:STANDARD
DTSTART:20251102T020000Z
TZOFFSETFROM:-0400
TZOFFSETTO:-0500
END:STANDARD
BEGIN:DAYLIGHT
DTSTART:20260308T020000Z
TZOFFSETFROM:-0500
TZOFFSETTO:-0400
END:DAYLIGHT
BEGIN:STANDARD
DTSTART:20261101T020000Z
TZOFFSETFROM:-0400
TZOFFSETTO:-0500
END:STANDARD
END:VTIMEZONE
BEGIN:VTIMEZONE
TZID:UTC
BEGIN:STANDARD
DTSTART:20250729T150243Z
TZOFFSETFROM:+0000
TZOFFSETTO:+0000
END:STANDARD
END:VTIMEZONE
BEGIN:VEVENT
UID:1828-442
DTSTAMP:20260425T150243Z
SUMMARY:Financial Literacy for Grade 3-6
LOCATION:
ORGANIZER;CN=ataylor:MAILTO:ataylor@hanoverlibrary.ca
DTSTART;TZID=America/Toronto:20260514T160000
DTEND;TZID=America/Toronto:20260514T170000
X-ALT-DESC;FMTTYPE=TEXT/HTML:Join a financial expert from Meridian Credit U
 nion to learn basic financial planning and how to make excellent financial
  decisions. Come and learn and ask any questions. Snacks and drinks are pr
 ovided. Hosted in the Newspaper Area of the library.
CATEGORIES:General
URL;VALUE=URI:https://hanoverlibrary.ca/mc-events/financial-literacy-for-gr
 ade-3-6/
METHOD:PUBLISH
END:VEVENT
END:VCALENDAR