BEGIN:VCALENDAR
VERSION:2.0
PRODID:spatie/icalendar-generator
DESCRIPTION:Events from Hanover Public Library
X-WR-CALDESC:Events from Hanover Public Library
REFRESH-INTERVAL;VALUE=DURATION:PT1440M
X-PUBLISHED-TTL:PT1440M
BEGIN:VTIMEZONE
TZID:America/Toronto
BEGIN:STANDARD
DTSTART:20251102T020000Z
TZOFFSETFROM:-0400
TZOFFSETTO:-0500
END:STANDARD
BEGIN:DAYLIGHT
DTSTART:20260308T020000Z
TZOFFSETFROM:-0500
TZOFFSETTO:-0400
END:DAYLIGHT
BEGIN:STANDARD
DTSTART:20261101T020000Z
TZOFFSETFROM:-0400
TZOFFSETTO:-0500
END:STANDARD
END:VTIMEZONE
BEGIN:VTIMEZONE
TZID:UTC
BEGIN:STANDARD
DTSTART:20250729T152818Z
TZOFFSETFROM:+0000
TZOFFSETTO:+0000
END:STANDARD
END:VTIMEZONE
BEGIN:VEVENT
UID:1832-445
DTSTAMP:20260425T152818Z
SUMMARY:Hanging Basket Sale
LOCATION:
ORGANIZER;CN=ataylor:MAILTO:ataylor@hanoverlibrary.ca
DTSTART;TZID=America/Toronto;VALUE=DATE:20260514
DTEND;TZID=America/Toronto;VALUE=DATE:20260519
X-ALT-DESC;FMTTYPE=TEXT/HTML:The Hanover Public Library is once again partn
 ering with Canadian Tire Hanover to put on our annual Hanging Basket Sale.
  We hope to see you there! Supporting the library helps us run all our won
 derful programs. Thursday 8am-6pm Friday 8am-6pm Saturday 8am-5pm Sunday 1
 0am-4pm Monday 9am-4pm
CATEGORIES:Event
URL;VALUE=URI:https://hanoverlibrary.ca/mc-events/hanging-basket-sale-2/
METHOD:PUBLISH
END:VEVENT
END:VCALENDAR