BEGIN:VCALENDAR
VERSION:2.0
PRODID:spatie/icalendar-generator
DESCRIPTION:Events from Hanover Public Library
X-WR-CALDESC:Events from Hanover Public Library
REFRESH-INTERVAL;VALUE=DURATION:PT1440M
X-PUBLISHED-TTL:PT1440M
BEGIN:VTIMEZONE
TZID:America/Toronto
BEGIN:STANDARD
DTSTART:20221106T020000Z
TZOFFSETFROM:-0400
TZOFFSETTO:-0500
END:STANDARD
BEGIN:DAYLIGHT
DTSTART:20230312T020000Z
TZOFFSETFROM:-0500
TZOFFSETTO:-0400
END:DAYLIGHT
END:VTIMEZONE
BEGIN:VTIMEZONE
TZID:UTC
BEGIN:STANDARD
DTSTART:20250725T202246Z
TZOFFSETFROM:+0000
TZOFFSETTO:+0000
END:STANDARD
END:VTIMEZONE
BEGIN:VEVENT
UID:202-84
DTSTAMP:20260421T202246Z
SUMMARY:Poetry Open Mic Night
LOCATION:
ORGANIZER;CN=ataylor:MAILTO:ataylor@hanoverlibrary.ca
DTSTART;TZID=America/Toronto:20230426T183000
DTEND;TZID=America/Toronto:20230426T190000
X-ALT-DESC;FMTTYPE=TEXT/HTML:April is National Poetry Month! Join us for an
  exciting evening of poetry! Local poets will be sharing their work. This 
 event will be headlined by local poet Dianne Joyce. Come to listen\, or sh
 are your work with the group. Register at the library to save your seat. H
 appening at 6:30 pm on Wednesday\, April&amp;hellip\;
CATEGORIES:Event
URL;VALUE=URI:https://hanoverlibrary.ca/mc-events/poetry-open-mic-night/
METHOD:PUBLISH
END:VEVENT
END:VCALENDAR