BEGIN:VCALENDAR
VERSION:2.0
PRODID:spatie/icalendar-generator
DESCRIPTION:Events from Hanover Public Library
X-WR-CALDESC:Events from Hanover Public Library
REFRESH-INTERVAL;VALUE=DURATION:PT1440M
X-PUBLISHED-TTL:PT1440M
BEGIN:VTIMEZONE
TZID:America/Toronto
BEGIN:STANDARD
DTSTART:20221106T020000Z
TZOFFSETFROM:-0400
TZOFFSETTO:-0500
END:STANDARD
BEGIN:DAYLIGHT
DTSTART:20230312T020000Z
TZOFFSETFROM:-0500
TZOFFSETTO:-0400
END:DAYLIGHT
END:VTIMEZONE
BEGIN:VTIMEZONE
TZID:UTC
BEGIN:STANDARD
DTSTART:20250729T185157Z
TZOFFSETFROM:+0000
TZOFFSETTO:+0000
END:STANDARD
END:VTIMEZONE
BEGIN:VEVENT
UID:236-109
DTSTAMP:20260425T185157Z
SUMMARY:Board Policy Meeting
LOCATION:
ORGANIZER;CN=carolyn:MAILTO:ccaskanette@hanover.ca
DTSTART;TZID=America/Toronto:20230425T140000
DTEND;TZID=America/Toronto:20230425T150000
X-ALT-DESC;FMTTYPE=TEXT/HTML:Board member committee to review bylaws\, gove
 rnance and operational policies.
CATEGORIES:Meeting
URL;VALUE=URI:https://hanoverlibrary.ca/mc-events/board-policy-meeting/
METHOD:PUBLISH
END:VEVENT
END:VCALENDAR