BEGIN:VCALENDAR
VERSION:2.0
PRODID:spatie/icalendar-generator
DESCRIPTION:Events from Hanover Public Library
X-WR-CALDESC:Events from Hanover Public Library
REFRESH-INTERVAL;VALUE=DURATION:PT1440M
X-PUBLISHED-TTL:PT1440M
BEGIN:VTIMEZONE
TZID:America/Toronto
BEGIN:STANDARD
DTSTART:20221106T020000Z
TZOFFSETFROM:-0400
TZOFFSETTO:-0500
END:STANDARD
BEGIN:DAYLIGHT
DTSTART:20230312T020000Z
TZOFFSETFROM:-0500
TZOFFSETTO:-0400
END:DAYLIGHT
BEGIN:STANDARD
DTSTART:20231105T020000Z
TZOFFSETFROM:-0400
TZOFFSETTO:-0500
END:STANDARD
END:VTIMEZONE
BEGIN:VTIMEZONE
TZID:UTC
BEGIN:STANDARD
DTSTART:20250726T105709Z
TZOFFSETFROM:+0000
TZOFFSETTO:+0000
END:STANDARD
END:VTIMEZONE
BEGIN:VEVENT
UID:254-117
DTSTAMP:20260422T105709Z
SUMMARY:Storytime
LOCATION:
ORGANIZER;CN=ataylor:MAILTO:ataylor@hanoverlibrary.ca
RRULE:FREQ=WEEKLY;UNTIL=20240528T000000Z
DTSTART;TZID=America/Toronto:20230620T103000
DTEND;TZID=America/Toronto:20230620T113000
X-ALT-DESC;FMTTYPE=TEXT/HTML:Join Stephanie on Tuesdays at 10:30am in the C
 ommunity Hall for Storytime. There will be for stories\, songs\, silliness
 \, and a craft! Meet new friends each week! Best suited for children ages 
 0-5.
CATEGORIES:Storytime
URL;VALUE=URI:https://hanoverlibrary.ca/mc-events/storytime/?mc_id=254
METHOD:PUBLISH
END:VEVENT
END:VCALENDAR