BEGIN:VCALENDAR
VERSION:2.0
PRODID:spatie/icalendar-generator
DESCRIPTION:Events from Hanover Public Library
X-WR-CALDESC:Events from Hanover Public Library
REFRESH-INTERVAL;VALUE=DURATION:PT1440M
X-PUBLISHED-TTL:PT1440M
BEGIN:VTIMEZONE
TZID:America/Toronto
BEGIN:STANDARD
DTSTART:20231105T020000Z
TZOFFSETFROM:-0400
TZOFFSETTO:-0500
END:STANDARD
BEGIN:DAYLIGHT
DTSTART:20240310T020000Z
TZOFFSETFROM:-0500
TZOFFSETTO:-0400
END:DAYLIGHT
END:VTIMEZONE
BEGIN:VTIMEZONE
TZID:UTC
BEGIN:STANDARD
DTSTART:20250729T164530Z
TZOFFSETFROM:+0000
TZOFFSETTO:+0000
END:STANDARD
END:VTIMEZONE
BEGIN:VEVENT
UID:510-192
DTSTAMP:20260425T164530Z
SUMMARY:Unicorn Magic Party
LOCATION:
ORGANIZER;CN=ataylor:MAILTO:ataylor@hanoverlibrary.ca
DTSTART;TZID=America/Toronto:20240315T120000
DTEND;TZID=America/Toronto:20240315T150000
X-ALT-DESC;FMTTYPE=TEXT/HTML:Wrap up your magical March Break in style at o
 ur Unicorn Magic Party! Join us for a unicorn themed craft\, get a unicorn
  tattoo\, and show us your best moves on the dance floor!
CATEGORIES:Event
URL;VALUE=URI:https://hanoverlibrary.ca/mc-events/unicorn-magic-party/
METHOD:PUBLISH
END:VEVENT
END:VCALENDAR