BEGIN:VCALENDAR
VERSION:2.0
PRODID:spatie/icalendar-generator
DESCRIPTION:Events from Hanover Public Library
X-WR-CALDESC:Events from Hanover Public Library
REFRESH-INTERVAL;VALUE=DURATION:PT1440M
X-PUBLISHED-TTL:PT1440M
BEGIN:VTIMEZONE
TZID:America/Toronto
BEGIN:STANDARD
DTSTART:20231105T020000Z
TZOFFSETFROM:-0400
TZOFFSETTO:-0500
END:STANDARD
BEGIN:DAYLIGHT
DTSTART:20240310T020000Z
TZOFFSETFROM:-0500
TZOFFSETTO:-0400
END:DAYLIGHT
BEGIN:STANDARD
DTSTART:20241103T020000Z
TZOFFSETFROM:-0400
TZOFFSETTO:-0500
END:STANDARD
END:VTIMEZONE
BEGIN:VTIMEZONE
TZID:UTC
BEGIN:STANDARD
DTSTART:20250729T170838Z
TZOFFSETFROM:+0000
TZOFFSETTO:+0000
END:STANDARD
END:VTIMEZONE
BEGIN:VEVENT
UID:536-218
DTSTAMP:20260425T170838Z
SUMMARY:Author Talk: Freida McFadden
LOCATION:
ORGANIZER;CN=ataylor:MAILTO:ataylor@hanoverlibrary.ca
DTSTART;TZID=America/Toronto:20240613T200000
DTEND;TZID=America/Toronto:20240613T220000
X-ALT-DESC;FMTTYPE=TEXT/HTML:Get your popcorn and take a seat as we pick th
 e brain of the queen of twists herself\, Freida McFadden! McFadden will jo
 in us to chat about writing psychological thrillers\, her mega-bestselling
  hit The Housemaid series\, in particular her forthcoming (June 11\, 202
 4) third installment\, The Housemaid Is Watching. The next installment is
  full of unbelievable twists and&amp;hellip\;
CATEGORIES:Online
URL;VALUE=URI:https://hanoverlibrary.ca/mc-events/author-talk-freida-mcfadd
 en/
METHOD:PUBLISH
END:VEVENT
END:VCALENDAR