BEGIN:VCALENDAR
VERSION:2.0
PRODID:spatie/icalendar-generator
DESCRIPTION:Events from Hanover Public Library
X-WR-CALDESC:Events from Hanover Public Library
REFRESH-INTERVAL;VALUE=DURATION:PT1440M
X-PUBLISHED-TTL:PT1440M
BEGIN:VTIMEZONE
TZID:America/Toronto
BEGIN:STANDARD
DTSTART:20231105T020000Z
TZOFFSETFROM:-0400
TZOFFSETTO:-0500
END:STANDARD
BEGIN:DAYLIGHT
DTSTART:20240310T020000Z
TZOFFSETFROM:-0500
TZOFFSETTO:-0400
END:DAYLIGHT
BEGIN:STANDARD
DTSTART:20241103T020000Z
TZOFFSETFROM:-0400
TZOFFSETTO:-0500
END:STANDARD
END:VTIMEZONE
BEGIN:VTIMEZONE
TZID:UTC
BEGIN:STANDARD
DTSTART:20250729T172617Z
TZOFFSETFROM:+0000
TZOFFSETTO:+0000
END:STANDARD
END:VTIMEZONE
BEGIN:VEVENT
UID:537-219
DTSTAMP:20260425T172617Z
SUMMARY:Author Talk: Tiffany Jewell
LOCATION:
ORGANIZER;CN=ataylor:MAILTO:ataylor@hanoverlibrary.ca
DTSTART;TZID=America/Toronto:20240620T140000
DTEND;TZID=America/Toronto:20240620T160000
X-ALT-DESC;FMTTYPE=TEXT/HTML:Join us as #1 New York Times bestselling autho
 r Tiffany Jewell highlights the inequities Black and Brown students face f
 rom preschool through college as she presents lessons and knowledge from h
 er new book Everything I Learned About Racism I Learned in School. From p
 reschool to higher education and everything in between\, Everything I Lea
 rned About Racism I&amp;hellip\;
CATEGORIES:Online
URL;VALUE=URI:https://hanoverlibrary.ca/mc-events/author-talk-tiffany-jewel
 l/
METHOD:PUBLISH
END:VEVENT
END:VCALENDAR