BEGIN:VCALENDAR
VERSION:2.0
PRODID:spatie/icalendar-generator
DESCRIPTION:Events from Hanover Public Library
X-WR-CALDESC:Events from Hanover Public Library
REFRESH-INTERVAL;VALUE=DURATION:PT1440M
X-PUBLISHED-TTL:PT1440M
BEGIN:VTIMEZONE
TZID:America/Toronto
BEGIN:DAYLIGHT
DTSTART:20240310T020000Z
TZOFFSETFROM:-0500
TZOFFSETTO:-0400
END:DAYLIGHT
BEGIN:STANDARD
DTSTART:20241103T020000Z
TZOFFSETFROM:-0400
TZOFFSETTO:-0500
END:STANDARD
END:VTIMEZONE
BEGIN:VTIMEZONE
TZID:UTC
BEGIN:STANDARD
DTSTART:20250726T122106Z
TZOFFSETFROM:+0000
TZOFFSETTO:+0000
END:STANDARD
END:VTIMEZONE
BEGIN:VEVENT
UID:579-236
DTSTAMP:20260422T122106Z
SUMMARY:Lego Club
LOCATION:
ORGANIZER;CN=ataylor:MAILTO:ataylor@hanoverlibrary.ca
RRULE:FREQ=WEEKLY;UNTIL=20240827T000000Z
DTSTART;TZID=America/Toronto:20240826T160000
DTEND;TZID=America/Toronto:20240826T180000
X-ALT-DESC;FMTTYPE=TEXT/HTML:Join us every Monday from 4:00-6:00 for a drop
 -in build and play. For kids and their caregivers.
CATEGORIES:General
URL;VALUE=URI:https://hanoverlibrary.ca/mc-events/lego-club/?mc_id=579
METHOD:PUBLISH
END:VEVENT
END:VCALENDAR